BEGIN:VCALENDAR
VERSION:2.0
PRODID:-//vat-ede.nl - ECPv6.15.20//NONSGML v1.0//EN
CALSCALE:GREGORIAN
METHOD:PUBLISH
X-ORIGINAL-URL:https://vat-ede.nl
X-WR-CALDESC:Evenementen voor vat-ede.nl
REFRESH-INTERVAL;VALUE=DURATION:PT1H
X-Robots-Tag:noindex
X-PUBLISHED-TTL:PT1H
BEGIN:VTIMEZONE
TZID:UTC
BEGIN:STANDARD
TZOFFSETFROM:+0000
TZOFFSETTO:+0000
TZNAME:UTC
DTSTART:20220101T000000
END:STANDARD
END:VTIMEZONE
BEGIN:VEVENT
DTSTART;TZID=UTC:20231214T193000
DTEND;TZID=UTC:20231214T213000
DTSTAMP:20260424T104217
CREATED:20231018T172742Z
LAST-MODIFIED:20231116T200038Z
UID:2931-1702582200-1702589400@vat-ede.nl
SUMMARY:Bloemschikken
DESCRIPTION:
URL:https://vat-ede.nl/event/bloemschikken/
LOCATION:De Koekelt\, Inschoterweg 1\, Ede
END:VEVENT
END:VCALENDAR