BEGIN:VCALENDAR
VERSION:2.0
PRODID:-//vat-ede.nl - ECPv6.15.20//NONSGML v1.0//EN
CALSCALE:GREGORIAN
METHOD:PUBLISH
X-ORIGINAL-URL:https://vat-ede.nl
X-WR-CALDESC:Evenementen voor vat-ede.nl
REFRESH-INTERVAL;VALUE=DURATION:PT1H
X-Robots-Tag:noindex
X-PUBLISHED-TTL:PT1H
BEGIN:VTIMEZONE
TZID:UTC
BEGIN:STANDARD
TZOFFSETFROM:+0000
TZOFFSETTO:+0000
TZNAME:UTC
DTSTART:20220101T000000
END:STANDARD
END:VTIMEZONE
BEGIN:VEVENT
DTSTART;TZID=UTC:20231230T090000
DTEND;TZID=UTC:20231230T120000
DTSTAMP:20260422T044504
CREATED:20231229T085126Z
LAST-MODIFIED:20241227T122052Z
UID:3421-1703926800-1703937600@vat-ede.nl
SUMMARY:Oliebollen & appelbeignets en nieuwjaarsinloop
DESCRIPTION:
URL:https://vat-ede.nl/event/oliebollen-appelbeignets-en-nieuwjaarsinloop/
LOCATION:De Koekelt\, Inschoterweg 1\, Ede
END:VEVENT
END:VCALENDAR