BEGIN:VCALENDAR
VERSION:2.0
PRODID:-//vat-ede.nl - ECPv6.15.20//NONSGML v1.0//EN
CALSCALE:GREGORIAN
METHOD:PUBLISH
X-WR-CALNAME:vat-ede.nl
X-ORIGINAL-URL:https://vat-ede.nl
X-WR-CALDESC:Evenementen voor vat-ede.nl
REFRESH-INTERVAL;VALUE=DURATION:PT1H
X-Robots-Tag:noindex
X-PUBLISHED-TTL:PT1H
BEGIN:VTIMEZONE
TZID:UTC
BEGIN:STANDARD
TZOFFSETFROM:+0000
TZOFFSETTO:+0000
TZNAME:UTC
DTSTART:20230101T000000
END:STANDARD
END:VTIMEZONE
BEGIN:VEVENT
DTSTART;TZID=UTC:20240313T193000
DTEND;TZID=UTC:20240313T213000
DTSTAMP:20260421T204927
CREATED:20240229T112005Z
LAST-MODIFIED:20240229T112005Z
UID:3653-1710358200-1710365400@vat-ede.nl
SUMMARY:Uitnodiging Thema-avond Voeding en Kanker\, Toon Hermans Huis Ede
DESCRIPTION:Uitnodiging Informatieavond Voeding & Kanker
URL:https://vat-ede.nl/event/uitnodiging-thema-avond-voeding-en-kanker-toon-hermans-huis-ede/
LOCATION:de Open Hof\, Hoflaan 2\, Ede\, 6715 AJ
END:VEVENT
END:VCALENDAR