BEGIN:VCALENDAR
VERSION:2.0
PRODID:-//vat-ede.nl - ECPv6.15.20//NONSGML v1.0//EN
CALSCALE:GREGORIAN
METHOD:PUBLISH
X-WR-CALNAME:vat-ede.nl
X-ORIGINAL-URL:https://vat-ede.nl
X-WR-CALDESC:Evenementen voor vat-ede.nl
REFRESH-INTERVAL;VALUE=DURATION:PT1H
X-Robots-Tag:noindex
X-PUBLISHED-TTL:PT1H
BEGIN:VTIMEZONE
TZID:UTC
BEGIN:STANDARD
TZOFFSETFROM:+0000
TZOFFSETTO:+0000
TZNAME:UTC
DTSTART:20230101T000000
END:STANDARD
END:VTIMEZONE
BEGIN:VEVENT
DTSTART;TZID=UTC:20240406T090000
DTEND;TZID=UTC:20240407T180000
DTSTAMP:20260421T190405
CREATED:20240401T100324Z
LAST-MODIFIED:20240401T100324Z
UID:3743-1712394000-1712512800@vat-ede.nl
SUMMARY:Reclaim the seeds
DESCRIPTION:Zaterdag 6 en zondag 7 april kun je bij De Hoge Born terecht als je op zoek bent naar leuke\, originele en bijzondere zaden. Deze twee dagen zijn gewijd aan het bevorderen van zaad- en voedselsoevereiniteit.\nReclaim the Seeds is een platform voor het delen van kennis\, het uitwisselen van zaden en het bevorderen van duurzame landbouwpraktijken. Tijdens deze dagen komen mensen samen om te pleiten voor een eerlijker en veerkrachtiger voedselsysteem.\nWe nodigen je uit om deel te nemen aan workshops\, lezingen en praktische sessies die zich richten op belangrijke kwesties zoals zaaddiversiteit\, landbouwactivisme en de impact van industriële landbouwpraktijken. Samen kunnen we werken aan een toekomst waarin iedereen toegang heeft tot gezond voedsel\, geworteld in lokale gemeenschappen. \n 
URL:https://vat-ede.nl/event/reclaim-the-seeds/
LOCATION:De Hoge Born\, Bornsesteeg 87\, Wageningen\, Gelderland\, 6708 PD
ORGANIZER;CN="De Boerengroep":MAILTO:st.boerengroep@wur.nl
END:VEVENT
END:VCALENDAR