BEGIN:VCALENDAR
VERSION:2.0
PRODID:-//vat-ede.nl - ECPv6.15.20//NONSGML v1.0//EN
CALSCALE:GREGORIAN
METHOD:PUBLISH
X-ORIGINAL-URL:https://vat-ede.nl
X-WR-CALDESC:Evenementen voor vat-ede.nl
REFRESH-INTERVAL;VALUE=DURATION:PT1H
X-Robots-Tag:noindex
X-PUBLISHED-TTL:PT1H
BEGIN:VTIMEZONE
TZID:UTC
BEGIN:STANDARD
TZOFFSETFROM:+0000
TZOFFSETTO:+0000
TZNAME:UTC
DTSTART:20230101T000000
END:STANDARD
END:VTIMEZONE
BEGIN:VEVENT
DTSTART;TZID=UTC:20241125T093000
DTEND;TZID=UTC:20241125T170000
DTSTAMP:20260420T212618
CREATED:20241125T182945Z
LAST-MODIFIED:20241125T182945Z
UID:4068-1732527000-1732554000@vat-ede.nl
SUMMARY:Tuinen van A. Vogel
DESCRIPTION:
URL:https://vat-ede.nl/event/tuinen-van-a-vogel/
ORGANIZER;CN="Activiteiten Vat-Ede":MAILTO:activiteiten@vat-ede.nl
END:VEVENT
END:VCALENDAR