BEGIN:VCALENDAR
VERSION:2.0
PRODID:-//vat-ede.nl - ECPv6.15.20//NONSGML v1.0//EN
CALSCALE:GREGORIAN
METHOD:PUBLISH
X-WR-CALNAME:vat-ede.nl
X-ORIGINAL-URL:https://vat-ede.nl
X-WR-CALDESC:Evenementen voor vat-ede.nl
REFRESH-INTERVAL;VALUE=DURATION:PT1H
X-Robots-Tag:noindex
X-PUBLISHED-TTL:PT1H
BEGIN:VTIMEZONE
TZID:UTC
BEGIN:STANDARD
TZOFFSETFROM:+0000
TZOFFSETTO:+0000
TZNAME:UTC
DTSTART:20230101T000000
END:STANDARD
END:VTIMEZONE
BEGIN:VEVENT
DTSTART;TZID=UTC:20240406T090000
DTEND;TZID=UTC:20240407T180000
DTSTAMP:20260421T152256
CREATED:20240401T100324Z
LAST-MODIFIED:20240401T100324Z
UID:3743-1712394000-1712512800@vat-ede.nl
SUMMARY:Reclaim the seeds
DESCRIPTION:Zaterdag 6 en zondag 7 april kun je bij De Hoge Born terecht als je op zoek bent naar leuke\, originele en bijzondere zaden. Deze twee dagen zijn gewijd aan het bevorderen van zaad- en voedselsoevereiniteit.\nReclaim the Seeds is een platform voor het delen van kennis\, het uitwisselen van zaden en het bevorderen van duurzame landbouwpraktijken. Tijdens deze dagen komen mensen samen om te pleiten voor een eerlijker en veerkrachtiger voedselsysteem.\nWe nodigen je uit om deel te nemen aan workshops\, lezingen en praktische sessies die zich richten op belangrijke kwesties zoals zaaddiversiteit\, landbouwactivisme en de impact van industriële landbouwpraktijken. Samen kunnen we werken aan een toekomst waarin iedereen toegang heeft tot gezond voedsel\, geworteld in lokale gemeenschappen. \n 
URL:https://vat-ede.nl/event/reclaim-the-seeds/
LOCATION:De Hoge Born\, Bornsesteeg 87\, Wageningen\, Gelderland\, 6708 PD
ORGANIZER;CN="De Boerengroep":MAILTO:st.boerengroep@wur.nl
END:VEVENT
BEGIN:VEVENT
DTSTART;TZID=UTC:20240410T193000
DTEND;TZID=UTC:20240410T213000
DTSTAMP:20260421T152256
CREATED:20240218T180632Z
LAST-MODIFIED:20240218T180651Z
UID:3645-1712777400-1712784600@vat-ede.nl
SUMMARY:De Kruiwagen redactievergadering
DESCRIPTION:
URL:https://vat-ede.nl/event/de-kruiwagen-redactievergadering/
LOCATION:De Koekelt\, Inschoterweg 1\, Ede
END:VEVENT
BEGIN:VEVENT
DTSTART;TZID=UTC:20240416T193000
DTEND;TZID=UTC:20240416T213000
DTSTAMP:20260421T152256
CREATED:20231024T173054Z
LAST-MODIFIED:20240207T193910Z
UID:2945-1713295800-1713303000@vat-ede.nl
SUMMARY:Botanisch tekenen
DESCRIPTION:Cursus botanisch tekenen in 3 avonden.\nOp de eerste avond gaan we het gekozen ontwerp op papier zetten met grafiet potlood. Vorm\, details\, compositie\, licht en schaduw. Eventueel wat kleurnotities maken.\nDe 2e avond zetten we de contouren van ons ontwerp over op een nieuw papier en maken een begin met het opbrengen van de kleuren. De 3e avond werken we de tekening verder uit en geven het de finishing touch.\nHet kleuren doen we d.m.v. glaceren: dunne transparante lagen kleur laag over laag totdat de gewenste kleur en nuance bereikt zijn. Dit kan zowel met kleurpotlood als met aquarelverf.\nVoor deze drie avonden hoef je geen kleurpotloden of aquarelverf te kopen. Die mag je van ons gebruiken\, evenals het papier. Wil je zelf wel verder gaan en zelf materialen kopen? Koop dan een basisset kleurpotloden met niet alleen de primaire kleuren\, maar ook oranje\, groen\, lila en een paar grijstinten. Kies voor kwalitatief goede potloden bijvoorbeeld van Faber-Castell. Die hebben mooi intens pigment. Voor aquarelverf volstaat een standaard setje van 10 blokjes. Vergeet ook niet een paar penselen in verschillende maten aan te schaffen\, maar niet te groot. Je moet immers ook kleine details kunnen inkleuren.\nBreng zelf een onderwerp mee wat je aanspreekt: bijvoorbeeld een amaryllis\, een dennenappel\, een kronkelige tak\, een ananas\, etc. Bedenk\, dat als je iets kiest met veel details en vlakken\, je die ook stuk voor stuk moet uitwerken. Dus ga voor niet te complex.
URL:https://vat-ede.nl/event/botanisch-tekenen-2/
LOCATION:De Koekelt\, Inschoterweg 1\, Ede
END:VEVENT
BEGIN:VEVENT
DTSTART;TZID=UTC:20240417T200000
DTEND;TZID=UTC:20240417T220000
DTSTAMP:20260421T152256
CREATED:20231018T170249Z
LAST-MODIFIED:20240218T180437Z
UID:2920-1713384000-1713391200@vat-ede.nl
SUMMARY:Vergadering VAT-Ede hoofdbestuur
DESCRIPTION:
URL:https://vat-ede.nl/event/vergadering-hoofdbestuur-2/
LOCATION:De Koekelt\, Inschoterweg 1\, Ede
ORGANIZER;CN="Hoofdbestuur":MAILTO:secretaris@vat-ede.nl
END:VEVENT
END:VCALENDAR