BEGIN:VCALENDAR
VERSION:2.0
PRODID:-//vat-ede.nl - ECPv6.15.20//NONSGML v1.0//EN
CALSCALE:GREGORIAN
METHOD:PUBLISH
X-WR-CALNAME:vat-ede.nl
X-ORIGINAL-URL:https://vat-ede.nl
X-WR-CALDESC:Evenementen voor vat-ede.nl
REFRESH-INTERVAL;VALUE=DURATION:PT1H
X-Robots-Tag:noindex
X-PUBLISHED-TTL:PT1H
BEGIN:VTIMEZONE
TZID:UTC
BEGIN:STANDARD
TZOFFSETFROM:+0000
TZOFFSETTO:+0000
TZNAME:UTC
DTSTART:20230101T000000
END:STANDARD
END:VTIMEZONE
BEGIN:VEVENT
DTSTART;TZID=UTC:20240626T080000
DTEND;TZID=UTC:20240626T170000
DTSTAMP:20260421T113647
CREATED:20240111T103118Z
LAST-MODIFIED:20240218T180408Z
UID:3464-1719388800-1719421200@vat-ede.nl
SUMMARY:Vergadering VAT-Ede hoofdbestuur
DESCRIPTION:
URL:https://vat-ede.nl/event/vergadering-hoofdbestuur-3/
LOCATION:De Koekelt\, Inschoterweg 1\, Ede
ORGANIZER;CN="Hoofdbestuur":MAILTO:secretaris@vat-ede.nl
END:VEVENT
BEGIN:VEVENT
DTSTART;TZID=UTC:20240629T130000
DTEND;TZID=UTC:20240629T170000
DTSTAMP:20260421T113647
CREATED:20231024T175725Z
LAST-MODIFIED:20240612T185252Z
UID:2965-1719666000-1719680400@vat-ede.nl
SUMMARY:Stoelkussen vilten
DESCRIPTION:Maak met wol\, zeep en wat ellebogenwerk een leuk stoelkussen.
URL:https://vat-ede.nl/event/stoelkussen-vilten/
LOCATION:De Koekelt\, Inschoterweg 1\, Ede
END:VEVENT
END:VCALENDAR