BEGIN:VCALENDAR
VERSION:2.0
PRODID:-//vat-ede.nl - ECPv6.15.20//NONSGML v1.0//EN
CALSCALE:GREGORIAN
METHOD:PUBLISH
X-ORIGINAL-URL:https://vat-ede.nl
X-WR-CALDESC:Evenementen voor vat-ede.nl
REFRESH-INTERVAL;VALUE=DURATION:PT1H
X-Robots-Tag:noindex
X-PUBLISHED-TTL:PT1H
BEGIN:VTIMEZONE
TZID:UTC
BEGIN:STANDARD
TZOFFSETFROM:+0000
TZOFFSETTO:+0000
TZNAME:UTC
DTSTART:20230101T000000
END:STANDARD
END:VTIMEZONE
BEGIN:VEVENT
DTSTART;TZID=UTC:20240904T080000
DTEND;TZID=UTC:20240904T170000
DTSTAMP:20260421T042502
CREATED:20240111T103235Z
LAST-MODIFIED:20240218T180352Z
UID:3466-1725436800-1725469200@vat-ede.nl
SUMMARY:Vergadering VAT-Ede hoofdbestuur
DESCRIPTION:
URL:https://vat-ede.nl/event/vergadering-hoofdbestuur-4/
LOCATION:De Koekelt\, Inschoterweg 1\, Ede
ORGANIZER;CN="Hoofdbestuur":MAILTO:secretaris@vat-ede.nl
END:VEVENT
BEGIN:VEVENT
DTSTART;TZID=UTC:20240907T133000
DTEND;TZID=UTC:20240907T170000
DTSTAMP:20260421T042502
CREATED:20240628T165718Z
LAST-MODIFIED:20240701T210854Z
UID:3970-1725715800-1725728400@vat-ede.nl
SUMMARY:Jubileum najaarsmarkt VAT-Ede
DESCRIPTION:VAT bestaat 45 jaar en dat gaan we vieren met een najaarsmarkt op zaterdag 7 september. Tussen 13.30 en 17.00 uur openen we de hekken van Tuinenpark De Koekelt en is iedereen van harte welkom\, zowel tuinders als overige belangstellenden. Naast kraampjes met leuke artikelen hebben we ook een gezellig programma voor jong en oud. Uiteraard vergezeld van een paar hapjes en drankjes.\nLeden van VAT-Ede krijgen een eerste consumptiekaart gratis. Overige belangstellenden betalen 4 euro voor de consumptiekaart. Met deze kaart kun je vier drankjes en een hapje halen. Uiteraard mag je zoveel kaarten kopen als je wilt.\nBekijk de flyer.
URL:https://vat-ede.nl/event/najaarsmarkt-vat-ede/
LOCATION:De Koekelt\, Inschoterweg 1\, Ede
ORGANIZER;CN="Activiteiten Vat-Ede":MAILTO:activiteiten@vat-ede.nl
END:VEVENT
END:VCALENDAR